BEGIN:VCALENDAR
VERSION:2.0
PRODID:-//EDOT - ECPv6.15.20//NONSGML v1.0//EN
CALSCALE:GREGORIAN
METHOD:PUBLISH
X-WR-CALNAME:EDOT
X-ORIGINAL-URL:https://www.epicenter.org
X-WR-CALDESC:Events for EDOT
REFRESH-INTERVAL;VALUE=DURATION:PT1H
X-Robots-Tag:noindex
X-PUBLISHED-TTL:PT1H
BEGIN:VTIMEZONE
TZID:America/Chicago
BEGIN:DAYLIGHT
TZOFFSETFROM:-0600
TZOFFSETTO:-0500
TZNAME:CDT
DTSTART:20240310T080000
END:DAYLIGHT
BEGIN:STANDARD
TZOFFSETFROM:-0500
TZOFFSETTO:-0600
TZNAME:CST
DTSTART:20241103T070000
END:STANDARD
BEGIN:DAYLIGHT
TZOFFSETFROM:-0600
TZOFFSETTO:-0500
TZNAME:CDT
DTSTART:20250309T080000
END:DAYLIGHT
BEGIN:STANDARD
TZOFFSETFROM:-0500
TZOFFSETTO:-0600
TZNAME:CST
DTSTART:20251102T070000
END:STANDARD
BEGIN:DAYLIGHT
TZOFFSETFROM:-0600
TZOFFSETTO:-0500
TZNAME:CDT
DTSTART:20260308T080000
END:DAYLIGHT
BEGIN:STANDARD
TZOFFSETFROM:-0500
TZOFFSETTO:-0600
TZNAME:CST
DTSTART:20261101T070000
END:STANDARD
END:VTIMEZONE
BEGIN:VEVENT
DTSTART;TZID=America/Chicago:20250108T183000
DTEND;TZID=America/Chicago:20250108T193000
DTSTAMP:20260419T095734
CREATED:20251219T135624Z
LAST-MODIFIED:20260419T121120Z
UID:32771-1736361000-1736364600@www.epicenter.org
SUMMARY:Celebration of New Ministry for the Rev. Rohani Weger
DESCRIPTION:Please join the Rt. Rev. Jeff W. Fisher as he installs the Rev. Rohani Weger as rector of Holy Trinity Episcopal Church in Port Neches\, Texas on Wednesday\, January 8\, 2025 at 6:30pm. Clergy please wear green stoles.
URL:https://www.epicenter.org/event/celebration-of-new-ministry-for-the-rev-rohani-weger/
LOCATION:Holy Trinity Episcopal Church\, 2425 Nall St.\, Port Neches\, 77651-4703
END:VEVENT
END:VCALENDAR