BEGIN:VCALENDAR
VERSION:2.0
PRODID:-//EDOT - ECPv6.15.20//NONSGML v1.0//EN
CALSCALE:GREGORIAN
METHOD:PUBLISH
X-WR-CALNAME:EDOT
X-ORIGINAL-URL:https://www.epicenter.org
X-WR-CALDESC:Events for EDOT
REFRESH-INTERVAL;VALUE=DURATION:PT1H
X-Robots-Tag:noindex
X-PUBLISHED-TTL:PT1H
BEGIN:VTIMEZONE
TZID:America/Chicago
BEGIN:DAYLIGHT
TZOFFSETFROM:-0600
TZOFFSETTO:-0500
TZNAME:CDT
DTSTART:20230312T080000
END:DAYLIGHT
BEGIN:STANDARD
TZOFFSETFROM:-0500
TZOFFSETTO:-0600
TZNAME:CST
DTSTART:20231105T070000
END:STANDARD
BEGIN:DAYLIGHT
TZOFFSETFROM:-0600
TZOFFSETTO:-0500
TZNAME:CDT
DTSTART:20240310T080000
END:DAYLIGHT
BEGIN:STANDARD
TZOFFSETFROM:-0500
TZOFFSETTO:-0600
TZNAME:CST
DTSTART:20241103T070000
END:STANDARD
BEGIN:DAYLIGHT
TZOFFSETFROM:-0600
TZOFFSETTO:-0500
TZNAME:CDT
DTSTART:20250309T080000
END:DAYLIGHT
BEGIN:STANDARD
TZOFFSETFROM:-0500
TZOFFSETTO:-0600
TZNAME:CST
DTSTART:20251102T070000
END:STANDARD
END:VTIMEZONE
BEGIN:VEVENT
DTSTART;TZID=America/Chicago:20240930T160000
DTEND;TZID=America/Chicago:20241002T130000
DTSTAMP:20260425T120723
CREATED:20251219T135618Z
LAST-MODIFIED:20260425T121114Z
UID:32750-1727712000-1727874000@www.epicenter.org
SUMMARY:Retired Clergy and Spouse Conference 2024
DESCRIPTION:REGISTRATION IS OPEN! \nhttps://www.campallen.org/registerforevents.html \nThe conference is free of charge. \n3 Continuing Education Units (CEUs) will be offered. \nKeynote Speaker – Monday evening \nThe Rev. Scott Gunn \nExecutive Director\, Forward Movement \nForward Movement is based in Cincinnati\, and famous for publishing the devotional “Forward Day by Day” and the fun “Lent Madness.” \nOther Offerings \n\nDr. Kathy Culmer\, professional storyteller and lay leader at St. James\, Houston.\nOptional workshop for clergy regarding supply\, interim\, and part-time work.\nDedicated social time for spouses.\nTuesday evening Holy Eucharist\, led by the Rt. Rev. Jeff W. Fisher.\nMusic and singing with Brother Michael Gallagher.\nPresentations on Wednesday morning by the Church Pension Group (CPG).\nActivities around Camp Allen.\nEvening social times.\n\nThis is THE Conference for Retired Clergy and Spouses\, offered for YOU. \nFor more information\, please contact Kathy Dunn at kdunn@epicenter.org
URL:https://www.epicenter.org/event/retired-clergy-and-spouse-conference-2024/
END:VEVENT
END:VCALENDAR