BEGIN:VCALENDAR
VERSION:2.0
PRODID:-//EDOT - ECPv6.15.20//NONSGML v1.0//EN
CALSCALE:GREGORIAN
METHOD:PUBLISH
X-WR-CALNAME:EDOT
X-ORIGINAL-URL:https://www.epicenter.org
X-WR-CALDESC:Events for EDOT
REFRESH-INTERVAL;VALUE=DURATION:PT1H
X-Robots-Tag:noindex
X-PUBLISHED-TTL:PT1H
BEGIN:VTIMEZONE
TZID:America/Chicago
BEGIN:DAYLIGHT
TZOFFSETFROM:-0600
TZOFFSETTO:-0500
TZNAME:CDT
DTSTART:20230312T080000
END:DAYLIGHT
BEGIN:STANDARD
TZOFFSETFROM:-0500
TZOFFSETTO:-0600
TZNAME:CST
DTSTART:20231105T070000
END:STANDARD
BEGIN:DAYLIGHT
TZOFFSETFROM:-0600
TZOFFSETTO:-0500
TZNAME:CDT
DTSTART:20240310T080000
END:DAYLIGHT
BEGIN:STANDARD
TZOFFSETFROM:-0500
TZOFFSETTO:-0600
TZNAME:CST
DTSTART:20241103T070000
END:STANDARD
BEGIN:DAYLIGHT
TZOFFSETFROM:-0600
TZOFFSETTO:-0500
TZNAME:CDT
DTSTART:20250309T080000
END:DAYLIGHT
BEGIN:STANDARD
TZOFFSETFROM:-0500
TZOFFSETTO:-0600
TZNAME:CST
DTSTART:20251102T070000
END:STANDARD
END:VTIMEZONE
BEGIN:VEVENT
DTSTART;TZID=America/Chicago:20241019T160000
DTEND;TZID=America/Chicago:20241019T190000
DTSTAMP:20260421T110420
CREATED:20251219T135620Z
LAST-MODIFIED:20260421T121121Z
UID:32756-1729353600-1729364400@www.epicenter.org
SUMMARY:St. Christopher's Fall Fest
DESCRIPTION:Join St. Christopher’s\, Austin\, for our fantastic annual Fall Festival with free entry\, where fun and excitement await the entire family! Our Trunk or Treat event will delight kids as they collect candies from creatively decorated car trunks (don’t forget your costume). Enjoy a variety of food\, games and activities\, including a cake walk\, dunk tank\, and petting zoo. Let the little ones bounce to their heart’s content in the bounce house\, and unleash your creativity with our craft stations. With prizes to be won and memories to be made\, St. Christopher’s Fall Festival is the perfect way to celebrate the season. Don’t miss out on this unforgettable community event!\n \nSee flyer here!
URL:https://www.epicenter.org/event/st-christophers-fall-fest/
LOCATION:St. Christopher's Episcopal Church\, 8724 Travis Hills Dr.\, Austin\, 78735
CATEGORIES:General Events
END:VEVENT
END:VCALENDAR