BEGIN:VCALENDAR
VERSION:2.0
PRODID:-//EDOT - ECPv6.15.20//NONSGML v1.0//EN
CALSCALE:GREGORIAN
METHOD:PUBLISH
X-ORIGINAL-URL:https://www.epicenter.org
X-WR-CALDESC:Events for EDOT
REFRESH-INTERVAL;VALUE=DURATION:PT1H
X-Robots-Tag:noindex
X-PUBLISHED-TTL:PT1H
BEGIN:VTIMEZONE
TZID:America/Chicago
BEGIN:DAYLIGHT
TZOFFSETFROM:-0600
TZOFFSETTO:-0500
TZNAME:CDT
DTSTART:20250309T080000
END:DAYLIGHT
BEGIN:STANDARD
TZOFFSETFROM:-0500
TZOFFSETTO:-0600
TZNAME:CST
DTSTART:20251102T070000
END:STANDARD
BEGIN:DAYLIGHT
TZOFFSETFROM:-0600
TZOFFSETTO:-0500
TZNAME:CDT
DTSTART:20260308T080000
END:DAYLIGHT
BEGIN:STANDARD
TZOFFSETFROM:-0500
TZOFFSETTO:-0600
TZNAME:CST
DTSTART:20261101T070000
END:STANDARD
BEGIN:DAYLIGHT
TZOFFSETFROM:-0600
TZOFFSETTO:-0500
TZNAME:CDT
DTSTART:20270314T080000
END:DAYLIGHT
BEGIN:STANDARD
TZOFFSETFROM:-0500
TZOFFSETTO:-0600
TZNAME:CST
DTSTART:20271107T070000
END:STANDARD
END:VTIMEZONE
BEGIN:VEVENT
DTSTART;TZID=America/Chicago:20260104T103000
DTEND;TZID=America/Chicago:20260104T140000
DTSTAMP:20260423T033854
CREATED:20251219T135659Z
LAST-MODIFIED:20260423T001054Z
UID:10001967-1767522600-1767535200@www.epicenter.org
SUMMARY:Trinity Episcopal Church Celebrates 175th Anniversary with Special Service
DESCRIPTION:FOR IMMEDIATE RELEASE DECEMBER 8\, 2025  \n  \nContact: Reverend Dana M. Jean 903-938-4246 revdanaj@gmail.com  \n  \nTrinity Episcopal Church Celebrates 175th Anniversary with Special Service on January 4  \n  \nTrinity Episcopal Church will celebrate its 175th anniversary on Sunday\, Jan. 4\, 2026\, with a special service at 10:30 a.m. led by the Rt. Rev. Andy Doyle\, bishop of the Episcopal Diocese of Texas. The service will include baptisms\, confirmations and the presentation of commemorative gifts to the church. Following worship\, attendees will gather for a festive procession\, catered lunch\, music and fellowship. All community members are invited to join the congregation for the service and celebrations.  \n  \n“Trinity’s 175 years tell a story of faithfulness—of people who showed up\, prayed\, served\, and loved this community in Christ’s name\,” said the Rev. Dana M. Jean. “We are grateful for their legacy and committed to carrying it forward with joy.”  \n  \nFounded on Jan. 4\, 1851\, Trinity Episcopal Church has played a vital role in the spiritual and civic life of Marshall for nearly two centuries. What began as a mission to serve Texas and Pacific railroad workers and their families has grown into a vibrant\, multigenerational congregation. Today\, under the leadership of the Rev. Dana M. Jean\, Trinity Episcopal Church continues that legacy\, serving both lifelong members whose families have worshiped here for generations as well as those who have joined more recently.  \n  \nThe 175th anniversary service will launch a yearlong celebration filled with special events\, themed gatherings\, acts of service\, and historical programs honoring Trinity’s past and future. More details on these upcoming celebrations will be released in early 2026.  \n  \nFor more information\, call 903-938-4246\, or email revdanaj@gmail.com \n  \nClick here for flyer \nClick here for PDF of press release
URL:https://www.epicenter.org/event/trinity-episcopal-church-celebrates-175th-anniversary-with-special-service/
LOCATION:Trinity Episcopal Church\, 106 N Grove St\, Marshall\, 75670
CATEGORIES:General Events
END:VEVENT
BEGIN:VEVENT
DTSTART;TZID=America/Chicago:20260114T190000
DTEND;TZID=America/Chicago:20260114T203000
DTSTAMP:20260423T033854
CREATED:20260110T001056Z
LAST-MODIFIED:20260423T001054Z
UID:10002197-1768417200-1768422600@www.epicenter.org
SUMMARY:Installation of the Rev. Kellie Wilson
DESCRIPTION:Please join the Rt. Rev. Jeff W. Fisher as he installs the Rev. Kellie Wilson as Rector at St. Aidan’s Episcopal Church in Cypress\, Texas on Wednesday\, January 14\, 2026 at 7pm. \nClergy\, please wear green stoles.
URL:https://www.epicenter.org/event/installation-of-the-rev-kellie-wilson/
CATEGORIES:General Events
END:VEVENT
BEGIN:VEVENT
DTSTART;TZID=America/Chicago:20260117T110000
DTEND;TZID=America/Chicago:20260117T130000
DTSTAMP:20260423T033854
CREATED:20251219T135659Z
LAST-MODIFIED:20260423T001054Z
UID:10001968-1768647600-1768654800@www.epicenter.org
SUMMARY:Ordination of the Rev. Mark C. Witte
DESCRIPTION:The Rt. Rev. Brian R. Seage will ordain the Rev. Mark C. Witte to the Sacred Order of Priests at 11:00am on Saturday\, January 17\, 2026 at St. Luke’s in Stephenville\, Texas. Clergy\, please wear white stoles.
URL:https://www.epicenter.org/event/ordination-of-the-rev-mark-c-witte/
LOCATION:St. Luke's Episcopal Church\, 595 N McIlhaney St.\, Stephenville\, 76401
CATEGORIES:General Events
END:VEVENT
BEGIN:VEVENT
DTSTART;TZID=America/Chicago:20260118T103000
DTEND;TZID=America/Chicago:20260118T114500
DTSTAMP:20260423T033854
CREATED:20251224T001132Z
LAST-MODIFIED:20260423T001054Z
UID:10002195-1768732200-1768736700@www.epicenter.org
SUMMARY:MLK Commemoration: trilingual Eucharist
DESCRIPTION:On Martin Luther King Jr. weekend\, we celebrate King’s legacy of the beloved community by engaging with the many cultures and languages used by the people of God in the Episcopal church. And we rejoice that\, through repentance\, reconciliation\, and relationship\, we may all experience the abundant love of Christ’s kingdom. This year\, our service is a trilingual one and we will experience our tradition in American Sign Language\, English\, and Spanish. The service also includes multilingual music from the Episcopal tradition. Bienvenidos a todos!  \nContact the Rev. Leah Wise with questions: leah@gsaustin.org | 512-621-7690 \nClick here for event website: https://gsaustin.org/event/mlk-commemoration/
URL:https://www.epicenter.org/event/mlk-commemoration-trilingual-eucharist/
LOCATION:The Hill\, 1700 Woodland Ave.\, Austin\, 78741
CATEGORIES:General Events
END:VEVENT
BEGIN:VEVENT
DTSTART;TZID=America/Chicago:20260121T183000
DTEND;TZID=America/Chicago:20260121T203000
DTSTAMP:20260423T033854
CREATED:20251219T135659Z
LAST-MODIFIED:20260423T001055Z
UID:10001969-1769020200-1769027400@www.epicenter.org
SUMMARY:Ordination of the Rev. Dr. Rachel S. Toombs
DESCRIPTION:God willing and the people consenting\, the Rt. Rev. Kathryn M. Ryan will ordain the Rev. Dr. Rachel S. Toombs to the Sacred Order of Priests at 6:30 PM on Wednesday\, January 21\, 2026 at Ascension Church in Stillwater\, MN. The service will be livestreamed on Ascension’s YouTube channel.\n \nClergy\, please wear red stoles.
URL:https://www.epicenter.org/event/ordination-of-the-rev-dr-rachel-s-toombs/
LOCATION:Stillwater\, Stillwater
CATEGORIES:General Events
END:VEVENT
BEGIN:VEVENT
DTSTART;TZID=America/Chicago:20260123T000000
DTEND;TZID=America/Chicago:20260125T000000
DTSTAMP:20260423T033854
CREATED:20251219T135700Z
LAST-MODIFIED:20260423T001055Z
UID:10001970-1769126400-1769299200@www.epicenter.org
SUMMARY:Happening #187
DESCRIPTION:The Happening Experience\nA Happening is a once-in-a-lifetime experience. Through this experience\, the Happening encourages participation in one’s own parish and youth group. Is Christianity relevant to youth today? Can it penetrate the many areas of school life? Can it transform the world and keep up with changing times? The Happening movement thinks so. It does not propose a new type of spirituality but provides a method through which one’s spirituality may be developed\, nourished\, lived\, and shared in fellowship with Christians willing to dedicate their lives to God in an ongoing manner. The Happening movement believes that Jesus Christ has and will continue to make a difference in the world and in individual lives. Those attending Happening listen to thought-provoking and challenging talks given by members of the staff and clergy. These talks are designed to help the Happeners get to know God. After each talk\, the opportunity is given for questions and discussion in small groups. \nInstrument of Renewal\nThe Happening Movement is a powerful instrument of renewal in the Church. Its purpose is to concentrate closely on the person and teaching of Jesus Christ. Our faith is seriously examined in a relaxed\, fun\, informal\, and loving atmosphere. The Happening weekend is an experience that gives those who attend the desire to understand and serve God through his Church. \nFor questions regarding Happening\, contact:\nhappening@epicenter.org
URL:https://www.epicenter.org/event/happening-187/
LOCATION:Camp Allen\, 18800 FM 362\, Navasota\, 77868
CATEGORIES:General Events
END:VEVENT
BEGIN:VEVENT
DTSTART;TZID=America/Chicago:20260123T180000
DTEND;TZID=America/Chicago:20260123T180000
DTSTAMP:20260423T033854
CREATED:20251219T135700Z
LAST-MODIFIED:20260423T001055Z
UID:10001971-1769191200-1769191200@www.epicenter.org
SUMMARY:Ordination to the Priesthood The Rev. Michael Sturdy
DESCRIPTION:The Rt. Rev. Jeff W. Fisher will ordain the Rev. Michael Sturdy to the Sacred Order of Priests at6:00 PM on Friday\, January 23\, 2026 at Holy Spirit Episcopal Church in Houston\, TX. For more information\, please contact Holy Spirit\, Houston. \n  \nClergy\, please wear RED stoles.
URL:https://www.epicenter.org/event/ordination-to-the-priesthood-the-rev-michael-sturdy/
CATEGORIES:General Events
END:VEVENT
BEGIN:VEVENT
DTSTART;TZID=America/Chicago:20260127T190000
DTEND;TZID=America/Chicago:20260127T210000
DTSTAMP:20260423T033854
CREATED:20251219T135701Z
LAST-MODIFIED:20260423T001055Z
UID:10001973-1769540400-1769547600@www.epicenter.org
SUMMARY:Ordination of the Rev. Dr. Brian K. Gamel
DESCRIPTION:God willing and the people consenting\, the Rt. Rev. Kathryn M. Ryan will ordain the Rev. Dr. Brian K. Gamel to the Sacred Order of Priests at 7:00 PM on Tuesday\, January 27\, 2026 at St. Thomas’ Church in College Station\, TX. For more information\, please contact St. Thomas’. \n\n \nClergy\, please wear white stoles.
URL:https://www.epicenter.org/event/ordination-of-the-rev-dr-brian-k-gamel/
LOCATION:906 George Bush Dr.\, College Station\, 77840
CATEGORIES:General Events
END:VEVENT
BEGIN:VEVENT
DTSTART;TZID=America/Chicago:20260128T180000
DTEND;TZID=America/Chicago:20260128T200000
DTSTAMP:20260423T033854
CREATED:20251219T135701Z
LAST-MODIFIED:20260423T001055Z
UID:10001974-1769623200-1769630400@www.epicenter.org
SUMMARY:Ordination to the Priesthood The Rev. Chase Kennemer
DESCRIPTION:The Rt. Rev. Jeff W. Fisher will ordain the Rev. Chase Kennemer to the Sacred Order of Priests at 6:00PM on Wednesday\, January 28\, 2026 at Trinity\, Episcopal Church in Galveston\, TX. For more information\, please contact Trinity Episcopal Church. \n\n \nClergy\, please wear  RED stoles.
URL:https://www.epicenter.org/event/ordination-to-the-priesthood-the-rev-chase-kennemer/
CATEGORIES:General Events
END:VEVENT
BEGIN:VEVENT
DTSTART;TZID=America/Chicago:20260130T000000
DTEND;TZID=America/Chicago:20260201T000000
DTSTAMP:20260423T033854
CREATED:20251219T135702Z
LAST-MODIFIED:20260423T001055Z
UID:10001975-1769731200-1769904000@www.epicenter.org
SUMMARY:EDOT College Students Retreat
DESCRIPTION:Presented by the Campus Missioners of the Episcopal Diocese of Texas. \nThis retreat for college and university students in the Episcopal Diocese of Texas is an opportunity for connection\, fun\, reflection\, prayer\, and rest.\n \nList of Campus Missions/Ministries in the Episcopal Diocese of Texas: https://www.epicenter.org/for-leaders/campus-missions/
URL:https://www.epicenter.org/event/edot-college-students-retreat/
LOCATION:Camp Allen\, 18800 FM 362\, Navasota\, 77868
CATEGORIES:General Events
END:VEVENT
BEGIN:VEVENT
DTSTART;TZID=America/Chicago:20260131T110000
DTEND;TZID=America/Chicago:20260131T130000
DTSTAMP:20260423T033854
CREATED:20251219T135702Z
LAST-MODIFIED:20260423T001056Z
UID:10001976-1769857200-1769864400@www.epicenter.org
SUMMARY:Ordination of the Rev. William A. Parker
DESCRIPTION:The Rt. Rev. Hector Monterroso will ordain the Rev. William A. Parker to the Sacred Order of Priests at 11:00 AM on Saturday\, January 31\, 2025\, at St. Mark’s Episcopal Church in Houston\, TX. For more information\, please contact Church. \n  \nClergy\, please wear Red stoles.
URL:https://www.epicenter.org/event/ordination-of-the-rev-william-a-parker/
LOCATION:3816 Bellaire Blvd.\, Houston\, 77025-1209
CATEGORIES:General Events
END:VEVENT
END:VCALENDAR