BEGIN:VCALENDAR
VERSION:2.0
PRODID:-//EDOT - ECPv6.15.20//NONSGML v1.0//EN
CALSCALE:GREGORIAN
METHOD:PUBLISH
X-WR-CALNAME:EDOT
X-ORIGINAL-URL:https://www.epicenter.org
X-WR-CALDESC:Events for EDOT
REFRESH-INTERVAL;VALUE=DURATION:PT1H
X-Robots-Tag:noindex
X-PUBLISHED-TTL:PT1H
BEGIN:VTIMEZONE
TZID:America/Chicago
BEGIN:DAYLIGHT
TZOFFSETFROM:-0600
TZOFFSETTO:-0500
TZNAME:CDT
DTSTART:20250309T080000
END:DAYLIGHT
BEGIN:STANDARD
TZOFFSETFROM:-0500
TZOFFSETTO:-0600
TZNAME:CST
DTSTART:20251102T070000
END:STANDARD
BEGIN:DAYLIGHT
TZOFFSETFROM:-0600
TZOFFSETTO:-0500
TZNAME:CDT
DTSTART:20260308T080000
END:DAYLIGHT
BEGIN:STANDARD
TZOFFSETFROM:-0500
TZOFFSETTO:-0600
TZNAME:CST
DTSTART:20261101T070000
END:STANDARD
BEGIN:DAYLIGHT
TZOFFSETFROM:-0600
TZOFFSETTO:-0500
TZNAME:CDT
DTSTART:20270314T080000
END:DAYLIGHT
BEGIN:STANDARD
TZOFFSETFROM:-0500
TZOFFSETTO:-0600
TZNAME:CST
DTSTART:20271107T070000
END:STANDARD
END:VTIMEZONE
BEGIN:VEVENT
DTSTART;TZID=America/Chicago:20261004T160000
DTEND;TZID=America/Chicago:20261005T130000
DTSTAMP:20260421T092442
CREATED:20251219T135707Z
LAST-MODIFIED:20260421T121209Z
UID:10001997-1791129600-1791205200@www.epicenter.org
SUMMARY:Small Church Network Fall 2026
DESCRIPTION:Small Church Network Fall 2026 Event Camp Allen\, Navasota\, TX Begins at 4pm on Sunday with Check-In and Concludes with Lunch on Monday. Register online at www.campallen.org
URL:https://www.epicenter.org/event/small-church-network-fall-2026/
CATEGORIES:General Events
END:VEVENT
BEGIN:VEVENT
DTSTART;TZID=America/Chicago:20261005T160000
DTEND;TZID=America/Chicago:20261007T130000
DTSTAMP:20260421T092442
CREATED:20251219T135707Z
LAST-MODIFIED:20260421T121209Z
UID:10001998-1791216000-1791378000@www.epicenter.org
SUMMARY:Retired Clergy and Spouse Conference 2026
DESCRIPTION:The conference is free of charge. \n3 Continuing Education Units (CEUs) will be offered. \n This is THE Conference for Retired Clergy and Spouses\, offered for YOU. \nFor more information\, please contact Kathy Dunn at kdunn@epicenter.org
URL:https://www.epicenter.org/event/retired-clergy-and-spouse-conference-2026/
END:VEVENT
BEGIN:VEVENT
DTSTART;TZID=America/Chicago:20261018T160000
DTEND;TZID=America/Chicago:20261021T130000
DTSTAMP:20260421T092442
CREATED:20251219T135708Z
LAST-MODIFIED:20260421T121209Z
UID:10001999-1792339200-1792587600@www.epicenter.org
SUMMARY:Clergy Conference 2026
DESCRIPTION:Our annual gathering for all the active clergy in the diocese to learn and support each other.
URL:https://www.epicenter.org/event/clergy-conference-2026/
LOCATION:Camp Allen\, 18800 FM 362\, Navasota\, 77868
END:VEVENT
END:VCALENDAR