BEGIN:VCALENDAR
VERSION:2.0
PRODID:-//EDOT - ECPv6.15.20//NONSGML v1.0//EN
CALSCALE:GREGORIAN
METHOD:PUBLISH
X-ORIGINAL-URL:https://www.epicenter.org
X-WR-CALDESC:Events for EDOT
REFRESH-INTERVAL;VALUE=DURATION:PT1H
X-Robots-Tag:noindex
X-PUBLISHED-TTL:PT1H
BEGIN:VTIMEZONE
TZID:America/Chicago
BEGIN:DAYLIGHT
TZOFFSETFROM:-0600
TZOFFSETTO:-0500
TZNAME:CDT
DTSTART:20240310T080000
END:DAYLIGHT
BEGIN:STANDARD
TZOFFSETFROM:-0500
TZOFFSETTO:-0600
TZNAME:CST
DTSTART:20241103T070000
END:STANDARD
BEGIN:DAYLIGHT
TZOFFSETFROM:-0600
TZOFFSETTO:-0500
TZNAME:CDT
DTSTART:20250309T080000
END:DAYLIGHT
BEGIN:STANDARD
TZOFFSETFROM:-0500
TZOFFSETTO:-0600
TZNAME:CST
DTSTART:20251102T070000
END:STANDARD
BEGIN:DAYLIGHT
TZOFFSETFROM:-0600
TZOFFSETTO:-0500
TZNAME:CDT
DTSTART:20260308T080000
END:DAYLIGHT
BEGIN:STANDARD
TZOFFSETFROM:-0500
TZOFFSETTO:-0600
TZNAME:CST
DTSTART:20261101T070000
END:STANDARD
END:VTIMEZONE
BEGIN:VEVENT
DTSTART;TZID=America/Chicago:20250405T090000
DTEND;TZID=America/Chicago:20250405T120000
DTSTAMP:20260424T173103
CREATED:20251219T135643Z
LAST-MODIFIED:20260424T121136Z
UID:10001919-1743843600-1743854400@www.epicenter.org
SUMMARY:El Buen’s Avanzando Futuros Brunch Celebration
DESCRIPTION:Join us as we celebrate the advancement of futures through education and essential needs programming. Together we will honor the recipients of the 2025 Excellence and Leading the Way awards while we share our vision for the future of El Buen’s education and workforce development programs!\n \nJOIN US FOR EL BUEN SAMARITANO’S SECOND ANNUAL ¡AVANZANDO FUTUROS! BRUNCH TO:\n\n– Celebrate our commitment to the health and prosperity of our community\n– Honor the achievements of our education and workforce development programs\n– Be inspired by the recipients of our Excellence and Leading the Way Awards\n\n– Invest in the future of Central Texas by supporting state-of-the-art education and essential needs programming for youth and adult \n$150 per ticket; Sponsorship opportunities availability at development@elbuen.org \nTo purchase tickets or learn more\, click here: https://elbuen.org/avanzandofuturos/ \nClick here for flyer
URL:https://www.epicenter.org/event/el-buens-avanzando-futuros-brunch-celebration/
LOCATION:7000 Woodhue Dr.\, Austin\, 78745
CATEGORIES:General Events
END:VEVENT
END:VCALENDAR