BEGIN:VCALENDAR
VERSION:2.0
PRODID:-//EDOT - ECPv6.15.20//NONSGML v1.0//EN
CALSCALE:GREGORIAN
METHOD:PUBLISH
X-ORIGINAL-URL:https://www.epicenter.org
X-WR-CALDESC:Events for EDOT
REFRESH-INTERVAL;VALUE=DURATION:PT1H
X-Robots-Tag:noindex
X-PUBLISHED-TTL:PT1H
BEGIN:VTIMEZONE
TZID:America/Chicago
BEGIN:DAYLIGHT
TZOFFSETFROM:-0600
TZOFFSETTO:-0500
TZNAME:CDT
DTSTART:20250309T080000
END:DAYLIGHT
BEGIN:STANDARD
TZOFFSETFROM:-0500
TZOFFSETTO:-0600
TZNAME:CST
DTSTART:20251102T070000
END:STANDARD
BEGIN:DAYLIGHT
TZOFFSETFROM:-0600
TZOFFSETTO:-0500
TZNAME:CDT
DTSTART:20260308T080000
END:DAYLIGHT
BEGIN:STANDARD
TZOFFSETFROM:-0500
TZOFFSETTO:-0600
TZNAME:CST
DTSTART:20261101T070000
END:STANDARD
BEGIN:DAYLIGHT
TZOFFSETFROM:-0600
TZOFFSETTO:-0500
TZNAME:CDT
DTSTART:20270314T080000
END:DAYLIGHT
BEGIN:STANDARD
TZOFFSETFROM:-0500
TZOFFSETTO:-0600
TZNAME:CST
DTSTART:20271107T070000
END:STANDARD
END:VTIMEZONE
BEGIN:VEVENT
DTSTART;TZID=America/Chicago:20260221T140000
DTEND;TZID=America/Chicago:20260221T160000
DTSTAMP:20260425T150204
CREATED:20260122T173009Z
LAST-MODIFIED:20260425T121155Z
UID:10002203-1771682400-1771689600@www.epicenter.org
SUMMARY:Ordination to the Priesthood of the Rev. Michael E. Thompson
DESCRIPTION:The Rt. Rev. Brian R. Seage will ordain the Rev. Michael E. Thompson at 2:00pm on Saturday\, February 21\, 2026 at St. John’s in Marlin\, Texas. Clergy\, please wear red stoles.
URL:https://www.epicenter.org/event/ordination-to-the-priesthood-of-the-rev-michael-e-thompson/
LOCATION:St. John's Episcopal Church\, 514 Carter Street\, Marlin\, 76661
CATEGORIES:General Events
END:VEVENT
END:VCALENDAR