BEGIN:VCALENDAR
VERSION:2.0
PRODID:-//EDOT - ECPv6.15.20//NONSGML v1.0//EN
CALSCALE:GREGORIAN
METHOD:PUBLISH
X-ORIGINAL-URL:https://www.epicenter.org
X-WR-CALDESC:Events for EDOT
REFRESH-INTERVAL;VALUE=DURATION:PT1H
X-Robots-Tag:noindex
X-PUBLISHED-TTL:PT1H
BEGIN:VTIMEZONE
TZID:America/Chicago
BEGIN:DAYLIGHT
TZOFFSETFROM:-0600
TZOFFSETTO:-0500
TZNAME:CDT
DTSTART:20230312T080000
END:DAYLIGHT
BEGIN:STANDARD
TZOFFSETFROM:-0500
TZOFFSETTO:-0600
TZNAME:CST
DTSTART:20231105T070000
END:STANDARD
BEGIN:DAYLIGHT
TZOFFSETFROM:-0600
TZOFFSETTO:-0500
TZNAME:CDT
DTSTART:20240310T080000
END:DAYLIGHT
BEGIN:STANDARD
TZOFFSETFROM:-0500
TZOFFSETTO:-0600
TZNAME:CST
DTSTART:20241103T070000
END:STANDARD
BEGIN:DAYLIGHT
TZOFFSETFROM:-0600
TZOFFSETTO:-0500
TZNAME:CDT
DTSTART:20250309T080000
END:DAYLIGHT
BEGIN:STANDARD
TZOFFSETFROM:-0500
TZOFFSETTO:-0600
TZNAME:CST
DTSTART:20251102T070000
END:STANDARD
BEGIN:DAYLIGHT
TZOFFSETFROM:-0600
TZOFFSETTO:-0500
TZNAME:CDT
DTSTART:20260308T080000
END:DAYLIGHT
BEGIN:STANDARD
TZOFFSETFROM:-0500
TZOFFSETTO:-0600
TZNAME:CST
DTSTART:20261101T070000
END:STANDARD
END:VTIMEZONE
BEGIN:VEVENT
DTSTART;TZID=America/Chicago:20250628T143000
DTEND;TZID=America/Chicago:20250628T163000
DTSTAMP:20260423T105446
CREATED:20251219T135650Z
LAST-MODIFIED:20260423T121143Z
UID:10001940-1751121000-1751128200@www.epicenter.org
SUMMARY:Benefit Concert for Lord of the Streets
DESCRIPTION:School of Rock West U is playing a benefit concert for Lord of the Streets on Saturday\, June 28\, from 2:30-4:30 at Trinity\, Midtown. \nDonations of $10/person are requested\, but please don’t let money stop you from coming.\n \nLord of The Streets is a church community that relieves suffering and reveals dignity by rebuilding lives through ministries and relationships with people facing homelessness.\n \nContact Name\nBradley Sullivan\n\nContact Email\nbsullivan@lordofthestreets.org\n\nContact Phone\n979-318-6772\n\nWebsite\nhttps://www.lotshouston.org/school-of-rock-benefit-concert.html\n\nclick here to view flier
URL:https://www.epicenter.org/event/benefit-concert-for-lord-of-the-streets/
LOCATION:Trinity Episcopal Church\, 1015 Holman St.\, Houston\, 77004
CATEGORIES:General Events
END:VEVENT
BEGIN:VEVENT
DTSTART;TZID=America/Chicago:20241117T150000
DTEND;TZID=America/Chicago:20241117T183000
DTSTAMP:20260423T105446
CREATED:20251219T135622Z
LAST-MODIFIED:20260423T121116Z
UID:10001867-1731855600-1731868200@www.epicenter.org
SUMMARY:64th Annual Diocesan Choral Festival
DESCRIPTION:Choirs from Diocesan parishes will gather to sing a Choral Evensong under the direction of Guest Conductor Garmon Ashby. Music will be provided upon registration. \nFree to participate as a singer and free to attend. \nRegister here: https://edotformation.formstack.com/forms/diocesan_choral_festival_2024
URL:https://www.epicenter.org/event/64th-annual-diocesan-choral-festival/
LOCATION:Trinity Episcopal Church\, 1015 Holman St.\, Houston\, 77004
CATEGORIES:General Events
END:VEVENT
END:VCALENDAR